BEGIN:VCALENDAR
VERSION:2.0
PRODID:-//Northside Yacht Club - ECPv6.15.20//NONSGML v1.0//EN
CALSCALE:GREGORIAN
METHOD:PUBLISH
X-WR-CALNAME:Northside Yacht Club
X-ORIGINAL-URL:https://northsideyachtclub.com
X-WR-CALDESC:Events for Northside Yacht Club
REFRESH-INTERVAL;VALUE=DURATION:PT1H
X-Robots-Tag:noindex
X-PUBLISHED-TTL:PT1H
BEGIN:VTIMEZONE
TZID:America/New_York
BEGIN:DAYLIGHT
TZOFFSETFROM:-0500
TZOFFSETTO:-0400
TZNAME:EDT
DTSTART:20150308T070000
END:DAYLIGHT
BEGIN:STANDARD
TZOFFSETFROM:-0400
TZOFFSETTO:-0500
TZNAME:EST
DTSTART:20151101T060000
END:STANDARD
BEGIN:DAYLIGHT
TZOFFSETFROM:-0500
TZOFFSETTO:-0400
TZNAME:EDT
DTSTART:20160313T070000
END:DAYLIGHT
BEGIN:STANDARD
TZOFFSETFROM:-0400
TZOFFSETTO:-0500
TZNAME:EST
DTSTART:20161106T060000
END:STANDARD
BEGIN:DAYLIGHT
TZOFFSETFROM:-0500
TZOFFSETTO:-0400
TZNAME:EDT
DTSTART:20170312T070000
END:DAYLIGHT
BEGIN:STANDARD
TZOFFSETFROM:-0400
TZOFFSETTO:-0500
TZNAME:EST
DTSTART:20171105T060000
END:STANDARD
END:VTIMEZONE
BEGIN:VEVENT
DTSTART;TZID=America/New_York:20160825T210000
DTEND;TZID=America/New_York:20160825T230000
DTSTAMP:20260422T102633
CREATED:20160803T172912Z
LAST-MODIFIED:20160803T180921Z
UID:1781-1472158800-1472166000@northsideyachtclub.com
SUMMARY:BORN SICK // PUSH OFF // BY FORCE
DESCRIPTION:Born Sick \nBy Force \nPush Off \n8/25/16\nNorthside yacht club \n8pm\n18 + \nhttps://bornsick757.bandcamp.com/releases
URL:https://northsideyachtclub.com/event/born-sick-tba/
LOCATION:Northside Yacht Club\, 4227 Spring Grove Avenue\, Cincinnati\, 45223\, United States
END:VEVENT
END:VCALENDAR