BEGIN:VCALENDAR
VERSION:2.0
PRODID:-//Northside Yacht Club - ECPv6.15.20//NONSGML v1.0//EN
CALSCALE:GREGORIAN
METHOD:PUBLISH
X-WR-CALNAME:Northside Yacht Club
X-ORIGINAL-URL:https://northsideyachtclub.com
X-WR-CALDESC:Events for Northside Yacht Club
REFRESH-INTERVAL;VALUE=DURATION:PT1H
X-Robots-Tag:noindex
X-PUBLISHED-TTL:PT1H
BEGIN:VTIMEZONE
TZID:America/New_York
BEGIN:DAYLIGHT
TZOFFSETFROM:-0500
TZOFFSETTO:-0400
TZNAME:EDT
DTSTART:20150308T070000
END:DAYLIGHT
BEGIN:STANDARD
TZOFFSETFROM:-0400
TZOFFSETTO:-0500
TZNAME:EST
DTSTART:20151101T060000
END:STANDARD
BEGIN:DAYLIGHT
TZOFFSETFROM:-0500
TZOFFSETTO:-0400
TZNAME:EDT
DTSTART:20160313T070000
END:DAYLIGHT
BEGIN:STANDARD
TZOFFSETFROM:-0400
TZOFFSETTO:-0500
TZNAME:EST
DTSTART:20161106T060000
END:STANDARD
BEGIN:DAYLIGHT
TZOFFSETFROM:-0500
TZOFFSETTO:-0400
TZNAME:EDT
DTSTART:20170312T070000
END:DAYLIGHT
BEGIN:STANDARD
TZOFFSETFROM:-0400
TZOFFSETTO:-0500
TZNAME:EST
DTSTART:20171105T060000
END:STANDARD
END:VTIMEZONE
BEGIN:VEVENT
DTSTART;TZID=America/New_York:20161028T210000
DTEND;TZID=America/New_York:20161028T230000
DTSTAMP:20260422T012435
CREATED:20161029T004237Z
LAST-MODIFIED:20161029T004237Z
UID:1994-1477688400-1477695600@northsideyachtclub.com
SUMMARY:WOMEN IN ROCK LADIES NIGHT HALLOWEEN EDITION ft. MR CLIT & THE PINK CIGARETTES
DESCRIPTION:The second Women in Rock hosted Ladies Night Northside Yacht Club: Halloween Edition! \nFeaturing:\nMr. Clit and the Pink Cigarettes (Indy)– https://mrclitandthepinkcigarettes.bandcamp.com/ \nSuxxxie Suxxx- A Siouxsie and the Banshees tribute band featuring members of Swim Team\, Darlene\, Pop Empire and Black Planet \nDJ Resin will be playing spooky tunes all night long! \nCostumes encouraged. Creep it real. FREE.
URL:https://northsideyachtclub.com/event/women-in-rock-ladies-night-halloween-edition-ft-mr-clit-the-pink-cigarettes/
LOCATION:Northside Yacht Club\, 4227 Spring Grove Avenue\, Cincinnati\, 45223\, United States
END:VEVENT
END:VCALENDAR