BEGIN:VCALENDAR
VERSION:2.0
PRODID:-//Northside Yacht Club - ECPv6.15.20//NONSGML v1.0//EN
CALSCALE:GREGORIAN
METHOD:PUBLISH
X-ORIGINAL-URL:https://northsideyachtclub.com
X-WR-CALDESC:Events for Northside Yacht Club
REFRESH-INTERVAL;VALUE=DURATION:PT1H
X-Robots-Tag:noindex
X-PUBLISHED-TTL:PT1H
BEGIN:VTIMEZONE
TZID:America/New_York
BEGIN:DAYLIGHT
TZOFFSETFROM:-0500
TZOFFSETTO:-0400
TZNAME:EDT
DTSTART:20150308T070000
END:DAYLIGHT
BEGIN:STANDARD
TZOFFSETFROM:-0400
TZOFFSETTO:-0500
TZNAME:EST
DTSTART:20151101T060000
END:STANDARD
BEGIN:DAYLIGHT
TZOFFSETFROM:-0500
TZOFFSETTO:-0400
TZNAME:EDT
DTSTART:20160313T070000
END:DAYLIGHT
BEGIN:STANDARD
TZOFFSETFROM:-0400
TZOFFSETTO:-0500
TZNAME:EST
DTSTART:20161106T060000
END:STANDARD
BEGIN:DAYLIGHT
TZOFFSETFROM:-0500
TZOFFSETTO:-0400
TZNAME:EDT
DTSTART:20170312T070000
END:DAYLIGHT
BEGIN:STANDARD
TZOFFSETFROM:-0400
TZOFFSETTO:-0500
TZNAME:EST
DTSTART:20171105T060000
END:STANDARD
END:VTIMEZONE
BEGIN:VEVENT
DTSTART;TZID=America/New_York:20161224T080000
DTEND;TZID=America/New_York:20161224T230000
DTSTAMP:20260422T104421
CREATED:20161224T153809Z
LAST-MODIFIED:20161224T153809Z
UID:2095-1482566400-1482620400@northsideyachtclub.com
SUMMARY:CLOSED CHRISTMAS EVE
DESCRIPTION:
URL:https://northsideyachtclub.com/event/closed-christmas-eve/
LOCATION:Northside Yacht Club\, 4227 Spring Grove Avenue\, Cincinnati\, 45223\, United States
END:VEVENT
BEGIN:VEVENT
DTSTART;TZID=America/New_York:20161224T115500
DTEND;TZID=America/New_York:20161224T230000
DTSTAMP:20260422T104421
CREATED:20160618T231051Z
LAST-MODIFIED:20161224T154234Z
UID:1080-1482580500-1482620400@northsideyachtclub.com
SUMMARY:MIDNIGHT SOCIETY DANCE PARTY 12AM-2AM
DESCRIPTION:DJ DJ TANNER & DJ HOME ALONE 2. \nLasers + Fog + Projections. \nOne Hit One Wonders \nClub Bangers \nGuilty Pleasures \nChart Toppers \nEVERY WEEKEND\n \n\n 
URL:https://northsideyachtclub.com/event/midnight-society-dance-party-12am-2am-2016-12-24/
LOCATION:Northside Yacht Club\, 4227 Spring Grove Avenue\, Cincinnati\, 45223\, United States
END:VEVENT
END:VCALENDAR