BEGIN:VCALENDAR
VERSION:2.0
PRODID:-//Northside Yacht Club - ECPv6.15.20//NONSGML v1.0//EN
CALSCALE:GREGORIAN
METHOD:PUBLISH
X-ORIGINAL-URL:https://northsideyachtclub.com
X-WR-CALDESC:Events for Northside Yacht Club
REFRESH-INTERVAL;VALUE=DURATION:PT1H
X-Robots-Tag:noindex
X-PUBLISHED-TTL:PT1H
BEGIN:VTIMEZONE
TZID:America/New_York
BEGIN:DAYLIGHT
TZOFFSETFROM:-0500
TZOFFSETTO:-0400
TZNAME:EDT
DTSTART:20160313T070000
END:DAYLIGHT
BEGIN:STANDARD
TZOFFSETFROM:-0400
TZOFFSETTO:-0500
TZNAME:EST
DTSTART:20161106T060000
END:STANDARD
BEGIN:DAYLIGHT
TZOFFSETFROM:-0500
TZOFFSETTO:-0400
TZNAME:EDT
DTSTART:20170312T070000
END:DAYLIGHT
BEGIN:STANDARD
TZOFFSETFROM:-0400
TZOFFSETTO:-0500
TZNAME:EST
DTSTART:20171105T060000
END:STANDARD
BEGIN:DAYLIGHT
TZOFFSETFROM:-0500
TZOFFSETTO:-0400
TZNAME:EDT
DTSTART:20180311T070000
END:DAYLIGHT
BEGIN:STANDARD
TZOFFSETFROM:-0400
TZOFFSETTO:-0500
TZNAME:EST
DTSTART:20181104T060000
END:STANDARD
END:VTIMEZONE
BEGIN:VEVENT
DTSTART;TZID=America/New_York:20170114T200000
DTEND;TZID=America/New_York:20170114T230000
DTSTAMP:20260422T115935
CREATED:20170109T194025Z
LAST-MODIFIED:20170109T194025Z
UID:2157-1484424000-1484434800@northsideyachtclub.com
SUMMARY:'HOW IT FEELS TO BE SOMETHING ON' The Emo Diaries chapter 2
DESCRIPTION:CHAPTER TWO OF ‘THE EMO DIARIES’ @NSYC \nfeaturing acoustic performances from: \nJON LEWIS\n(DOPAMINES)\n&\nJERRI QUEEN\n(VACATION) \nDJ sets from:\nJUSTIN SCHAFER\n&\nDJ HAIL SATAN \nScreening emotional movies & flashing lights. \nBring your own box of tissues
URL:https://northsideyachtclub.com/event/how-it-feels-to-be-something-on-the-emo-diaries-chapter-2/
LOCATION:Northside Yacht Club\, 4227 Spring Grove Avenue\, Cincinnati\, 45223\, United States
END:VEVENT
END:VCALENDAR