BEGIN:VCALENDAR
VERSION:2.0
PRODID:-//Northside Yacht Club - ECPv6.15.20//NONSGML v1.0//EN
CALSCALE:GREGORIAN
METHOD:PUBLISH
X-ORIGINAL-URL:https://northsideyachtclub.com
X-WR-CALDESC:Events for Northside Yacht Club
REFRESH-INTERVAL;VALUE=DURATION:PT1H
X-Robots-Tag:noindex
X-PUBLISHED-TTL:PT1H
BEGIN:VTIMEZONE
TZID:America/New_York
BEGIN:DAYLIGHT
TZOFFSETFROM:-0500
TZOFFSETTO:-0400
TZNAME:EDT
DTSTART:20160313T070000
END:DAYLIGHT
BEGIN:STANDARD
TZOFFSETFROM:-0400
TZOFFSETTO:-0500
TZNAME:EST
DTSTART:20161106T060000
END:STANDARD
BEGIN:DAYLIGHT
TZOFFSETFROM:-0500
TZOFFSETTO:-0400
TZNAME:EDT
DTSTART:20170312T070000
END:DAYLIGHT
BEGIN:STANDARD
TZOFFSETFROM:-0400
TZOFFSETTO:-0500
TZNAME:EST
DTSTART:20171105T060000
END:STANDARD
BEGIN:DAYLIGHT
TZOFFSETFROM:-0500
TZOFFSETTO:-0400
TZNAME:EDT
DTSTART:20180311T070000
END:DAYLIGHT
BEGIN:STANDARD
TZOFFSETFROM:-0400
TZOFFSETTO:-0500
TZNAME:EST
DTSTART:20181104T060000
END:STANDARD
END:VTIMEZONE
BEGIN:VEVENT
DTSTART;TZID=America/New_York:20170127T200000
DTEND;TZID=America/New_York:20170127T230000
DTSTAMP:20260422T115937
CREATED:20170105T193428Z
LAST-MODIFIED:20170127T202853Z
UID:2127-1485547200-1485558000@northsideyachtclub.com
SUMMARY:LOCKJAW (cd release) / KLAN / OFF THE MEAT RACK / SLUTBOMB / THEIR ACCOMPLICES
DESCRIPTION:Lockjaw and NSYC are hosting the premier event to the start of your 2017 featuring performances by us and our friends: \nK.L.A.N.\nOff The Meat Rack\nSlutbomb\nTheir Accomplices \nLockjaw will be selling our new full length album\, ”Who Do You Think You Are?” For a discounted $5 this night only so if you love terribly wonderful bands and have yet to snag a copy of this masterpiece\, get your sweet butts down to Yacht Club!
URL:https://northsideyachtclub.com/event/lockjaw-cd-release-klan-off-the-meat-rack/
LOCATION:Northside Yacht Club\, 4227 Spring Grove Avenue\, Cincinnati\, 45223\, United States
END:VEVENT
END:VCALENDAR