BEGIN:VCALENDAR
VERSION:2.0
PRODID:-//Northside Yacht Club - ECPv6.15.20//NONSGML v1.0//EN
CALSCALE:GREGORIAN
METHOD:PUBLISH
X-WR-CALNAME:Northside Yacht Club
X-ORIGINAL-URL:https://northsideyachtclub.com
X-WR-CALDESC:Events for Northside Yacht Club
REFRESH-INTERVAL;VALUE=DURATION:PT1H
X-Robots-Tag:noindex
X-PUBLISHED-TTL:PT1H
BEGIN:VTIMEZONE
TZID:America/New_York
BEGIN:DAYLIGHT
TZOFFSETFROM:-0500
TZOFFSETTO:-0400
TZNAME:EDT
DTSTART:20170312T070000
END:DAYLIGHT
BEGIN:STANDARD
TZOFFSETFROM:-0400
TZOFFSETTO:-0500
TZNAME:EST
DTSTART:20171105T060000
END:STANDARD
BEGIN:DAYLIGHT
TZOFFSETFROM:-0500
TZOFFSETTO:-0400
TZNAME:EDT
DTSTART:20180311T070000
END:DAYLIGHT
BEGIN:STANDARD
TZOFFSETFROM:-0400
TZOFFSETTO:-0500
TZNAME:EST
DTSTART:20181104T060000
END:STANDARD
BEGIN:DAYLIGHT
TZOFFSETFROM:-0500
TZOFFSETTO:-0400
TZNAME:EDT
DTSTART:20190310T070000
END:DAYLIGHT
BEGIN:STANDARD
TZOFFSETFROM:-0400
TZOFFSETTO:-0500
TZNAME:EST
DTSTART:20191103T060000
END:STANDARD
END:VTIMEZONE
BEGIN:VEVENT
DTSTART;TZID=America/New_York:20180811T210000
DTEND;TZID=America/New_York:20180811T235500
DTSTAMP:20260425T211421
CREATED:20180709T202104Z
LAST-MODIFIED:20180709T202104Z
UID:5956-1534021200-1534031700@northsideyachtclub.com
SUMMARY:Momentum // Bloodhound // Vicious Embrace // Nailed Through // Burn Victim
DESCRIPTION:Momentum\nhttps://momentumca.bandcamp.com/ \nBloodhound\nhttps://bloodhoundhc.bandcamp.com/ \nVicious Embrace\nhttps://viciousembrace.bandcamp.com/ \nNailed Through\nhttps://nailedthrough.bandcamp.com/album/thank-god-promo \nBurn Victim\nhttps://burnvictimohio.bandcamp.com/album/burn-victim \n8/11/18\nNSYC \nDoors at 8pm\nShows at 8:30pm \n$10 ATD
URL:https://northsideyachtclub.com/event/momentum-bloodhound-vicious-embrace-nailed-through-burn-victim/
LOCATION:Northside Yacht Club\, 4227 Spring Grove Avenue\, Cincinnati\, 45223\, United States
ATTACH;FMTTYPE=image/jpeg:https://northsideyachtclub.com/wp-content/uploads/2018/07/35241467_2071051556550094_738246281943580672_n.jpg
END:VEVENT
END:VCALENDAR