BEGIN:VCALENDAR
VERSION:2.0
PRODID:-//Northside Yacht Club - ECPv6.15.20//NONSGML v1.0//EN
CALSCALE:GREGORIAN
METHOD:PUBLISH
X-ORIGINAL-URL:https://northsideyachtclub.com
X-WR-CALDESC:Events for Northside Yacht Club
REFRESH-INTERVAL;VALUE=DURATION:PT1H
X-Robots-Tag:noindex
X-PUBLISHED-TTL:PT1H
BEGIN:VTIMEZONE
TZID:America/New_York
BEGIN:DAYLIGHT
TZOFFSETFROM:-0500
TZOFFSETTO:-0400
TZNAME:EDT
DTSTART:20170312T070000
END:DAYLIGHT
BEGIN:STANDARD
TZOFFSETFROM:-0400
TZOFFSETTO:-0500
TZNAME:EST
DTSTART:20171105T060000
END:STANDARD
BEGIN:DAYLIGHT
TZOFFSETFROM:-0500
TZOFFSETTO:-0400
TZNAME:EDT
DTSTART:20180311T070000
END:DAYLIGHT
BEGIN:STANDARD
TZOFFSETFROM:-0400
TZOFFSETTO:-0500
TZNAME:EST
DTSTART:20181104T060000
END:STANDARD
BEGIN:DAYLIGHT
TZOFFSETFROM:-0500
TZOFFSETTO:-0400
TZNAME:EDT
DTSTART:20190310T070000
END:DAYLIGHT
BEGIN:STANDARD
TZOFFSETFROM:-0400
TZOFFSETTO:-0500
TZNAME:EST
DTSTART:20191103T060000
END:STANDARD
END:VTIMEZONE
BEGIN:VEVENT
DTSTART;TZID=America/New_York:20180820T150000
DTEND;TZID=America/New_York:20180820T210000
DTSTAMP:20260425T195330
CREATED:20180822T185429Z
LAST-MODIFIED:20180822T185429Z
UID:6130-1534777200-1534798800@northsideyachtclub.com
SUMMARY:Nsyc ramen mondays / Attack of the Killer Tomatoes / A kiki pop
DESCRIPTION:
URL:https://northsideyachtclub.com/event/nsyc-ramen-mondays-attack-of-the-killer-tomatoes-a-kiki-pop/
LOCATION:Northside Yacht Club\, 4227 Spring Grove Avenue\, Cincinnati\, 45223\, United States
ATTACH;FMTTYPE=image/jpeg:https://northsideyachtclub.com/wp-content/uploads/2018/08/kiki-ramen-fb-tomato.jpg
END:VEVENT
BEGIN:VEVENT
DTSTART;TZID=America/New_York:20180827T210000
DTEND;TZID=America/New_York:20180827T235500
DTSTAMP:20260425T195331
CREATED:20180729T191416Z
LAST-MODIFIED:20180729T191416Z
UID:6024-1535403600-1535414100@northsideyachtclub.com
SUMMARY:Strung Out // After The Fall // Make War
DESCRIPTION:Strung Out\nAfter The Fall\nMake War \n$18 presale\n$20 Day of show\n9om\n18+
URL:https://northsideyachtclub.com/event/strung-out-after-the-fall-make-war/
LOCATION:Northside Yacht Club\, 4227 Spring Grove Avenue\, Cincinnati\, 45223\, United States
ATTACH;FMTTYPE=image/jpeg:https://northsideyachtclub.com/wp-content/uploads/2018/07/37019511_1661012610663452_5311997547189895168_o.jpg
END:VEVENT
END:VCALENDAR