BEGIN:VCALENDAR
VERSION:2.0
PRODID:-//Northside Yacht Club - ECPv6.15.20//NONSGML v1.0//EN
CALSCALE:GREGORIAN
METHOD:PUBLISH
X-WR-CALNAME:Northside Yacht Club
X-ORIGINAL-URL:https://northsideyachtclub.com
X-WR-CALDESC:Events for Northside Yacht Club
REFRESH-INTERVAL;VALUE=DURATION:PT1H
X-Robots-Tag:noindex
X-PUBLISHED-TTL:PT1H
BEGIN:VTIMEZONE
TZID:America/New_York
BEGIN:DAYLIGHT
TZOFFSETFROM:-0500
TZOFFSETTO:-0400
TZNAME:EDT
DTSTART:20160313T070000
END:DAYLIGHT
BEGIN:STANDARD
TZOFFSETFROM:-0400
TZOFFSETTO:-0500
TZNAME:EST
DTSTART:20161106T060000
END:STANDARD
BEGIN:DAYLIGHT
TZOFFSETFROM:-0500
TZOFFSETTO:-0400
TZNAME:EDT
DTSTART:20170312T070000
END:DAYLIGHT
BEGIN:STANDARD
TZOFFSETFROM:-0400
TZOFFSETTO:-0500
TZNAME:EST
DTSTART:20171105T060000
END:STANDARD
BEGIN:DAYLIGHT
TZOFFSETFROM:-0500
TZOFFSETTO:-0400
TZNAME:EDT
DTSTART:20180311T070000
END:DAYLIGHT
BEGIN:STANDARD
TZOFFSETFROM:-0400
TZOFFSETTO:-0500
TZNAME:EST
DTSTART:20181104T060000
END:STANDARD
BEGIN:DAYLIGHT
TZOFFSETFROM:-0500
TZOFFSETTO:-0400
TZNAME:EDT
DTSTART:20190310T070000
END:DAYLIGHT
BEGIN:STANDARD
TZOFFSETFROM:-0400
TZOFFSETTO:-0500
TZNAME:EST
DTSTART:20191103T060000
END:STANDARD
END:VTIMEZONE
BEGIN:VEVENT
DTSTART;TZID=America/New_York:20170301T160000
DTEND;TZID=America/New_York:20170301T220000
DTSTAMP:20260425T195204
CREATED:20170223T202956Z
LAST-MODIFIED:20170223T202956Z
UID:2751-1488384000-1488405600@northsideyachtclub.com
SUMMARY:HALF PRICE WING & CAULIFLOWER WING WEDNESDAY
DESCRIPTION:Half-priced house-smoked wings\, and vegan cauliflower wings\, also $5 margs. \n \nvia GIPHY
URL:https://northsideyachtclub.com/event/half-price-wing-cauliflower-wing-wednesday/
ATTACH;FMTTYPE=image/jpeg:https://northsideyachtclub.com/wp-content/uploads/2017/02/NSYC-Wings.jpg
END:VEVENT
BEGIN:VEVENT
DTSTART;TZID=America/New_York:20180830T210000
DTEND;TZID=America/New_York:20180830T235500
DTSTAMP:20260425T195204
CREATED:20180802T194345Z
LAST-MODIFIED:20180802T194345Z
UID:6037-1535662800-1535673300@northsideyachtclub.com
SUMMARY:Freak Heat Waves // Kristian North // Smut // Amazon
DESCRIPTION:Freak Heat Waves (victoria\, BC)\nnew album on Telephone Explosion. “shedding familiar influences from the heavily excavated histories of post-punk and krautrock\, the band has now beamed into uncharted territory with the otherworldly sound of their third album\, Beyond XXXL.”\nfreakheatwaves.bandcamp.com \nKristian North (montreal\, QB)\n70s pop à la lou reed or iggy pop. new album on Lone Hand\nkristiannorth.bandcamp.com \nsmut\nlocal band about to tour the US for a month\nsmutohio.bandcamp.com \nAmazon\nfirst show \n$10 for touring acts / 9pm ~
URL:https://northsideyachtclub.com/event/freak-heat-waves-kristian-north-smut-amazon/
LOCATION:Northside Yacht Club\, 4227 Spring Grove Avenue\, Cincinnati\, 45223\, United States
ATTACH;FMTTYPE=image/jpeg:https://northsideyachtclub.com/wp-content/uploads/2018/08/37987880_10217556463722981_4037066814956503040_o.jpg
END:VEVENT
END:VCALENDAR