BEGIN:VCALENDAR
VERSION:2.0
PRODID:-//Northside Yacht Club - ECPv6.15.20//NONSGML v1.0//EN
CALSCALE:GREGORIAN
METHOD:PUBLISH
X-WR-CALNAME:Northside Yacht Club
X-ORIGINAL-URL:https://northsideyachtclub.com
X-WR-CALDESC:Events for Northside Yacht Club
REFRESH-INTERVAL;VALUE=DURATION:PT1H
X-Robots-Tag:noindex
X-PUBLISHED-TTL:PT1H
BEGIN:VTIMEZONE
TZID:America/New_York
BEGIN:DAYLIGHT
TZOFFSETFROM:-0500
TZOFFSETTO:-0400
TZNAME:EDT
DTSTART:20170312T070000
END:DAYLIGHT
BEGIN:STANDARD
TZOFFSETFROM:-0400
TZOFFSETTO:-0500
TZNAME:EST
DTSTART:20171105T060000
END:STANDARD
BEGIN:DAYLIGHT
TZOFFSETFROM:-0500
TZOFFSETTO:-0400
TZNAME:EDT
DTSTART:20180311T070000
END:DAYLIGHT
BEGIN:STANDARD
TZOFFSETFROM:-0400
TZOFFSETTO:-0500
TZNAME:EST
DTSTART:20181104T060000
END:STANDARD
BEGIN:DAYLIGHT
TZOFFSETFROM:-0500
TZOFFSETTO:-0400
TZNAME:EDT
DTSTART:20190310T070000
END:DAYLIGHT
BEGIN:STANDARD
TZOFFSETFROM:-0400
TZOFFSETTO:-0500
TZNAME:EST
DTSTART:20191103T060000
END:STANDARD
END:VTIMEZONE
BEGIN:VEVENT
DTSTART;TZID=America/New_York:20181019T210000
DTEND;TZID=America/New_York:20181019T235500
DTSTAMP:20260425T184537
CREATED:20181011T142649Z
LAST-MODIFIED:20181011T142649Z
UID:6169-1539982800-1539993300@northsideyachtclub.com
SUMMARY:Cool Life SNEAK PEEK Album Listening Party!
DESCRIPTION:Come experience a sneak peek audio/visual presentation of the debut self-titled album from Cool Life! The album will be released later this year on digital platforms and ultra-limited vinyl via Mind Over Matter Records\, but this is your chance to get an early ear n’ eyeful while throwing back some cold ones with the boys. The album is accompanied by copious amounts of visual art by our close friend and collaborator Charlie Compton\, and there will of course be delicious concoctions of food and drink served by our good buddies at Northside Yacht Club. We can’t wait to share the full scope of what we’ve been working on\, and we hope you’ll join us for the festivities.
URL:https://northsideyachtclub.com/event/cool-life-sneak-peek-album-listening-party/
LOCATION:Northside Yacht Club\, 4227 Spring Grove Avenue\, Cincinnati\, 45223\, United States
ATTACH;FMTTYPE=image/jpeg:https://northsideyachtclub.com/wp-content/uploads/2018/10/43185842_2172790029643300_3178311378549080064_o.jpg
END:VEVENT
END:VCALENDAR