BEGIN:VCALENDAR
VERSION:2.0
PRODID:-//Northside Yacht Club - ECPv6.15.20//NONSGML v1.0//EN
CALSCALE:GREGORIAN
METHOD:PUBLISH
X-WR-CALNAME:Northside Yacht Club
X-ORIGINAL-URL:https://northsideyachtclub.com
X-WR-CALDESC:Events for Northside Yacht Club
REFRESH-INTERVAL;VALUE=DURATION:PT1H
X-Robots-Tag:noindex
X-PUBLISHED-TTL:PT1H
BEGIN:VTIMEZONE
TZID:America/New_York
BEGIN:DAYLIGHT
TZOFFSETFROM:-0500
TZOFFSETTO:-0400
TZNAME:EDT
DTSTART:20170312T070000
END:DAYLIGHT
BEGIN:STANDARD
TZOFFSETFROM:-0400
TZOFFSETTO:-0500
TZNAME:EST
DTSTART:20171105T060000
END:STANDARD
BEGIN:DAYLIGHT
TZOFFSETFROM:-0500
TZOFFSETTO:-0400
TZNAME:EDT
DTSTART:20180311T070000
END:DAYLIGHT
BEGIN:STANDARD
TZOFFSETFROM:-0400
TZOFFSETTO:-0500
TZNAME:EST
DTSTART:20181104T060000
END:STANDARD
BEGIN:DAYLIGHT
TZOFFSETFROM:-0500
TZOFFSETTO:-0400
TZNAME:EDT
DTSTART:20190310T070000
END:DAYLIGHT
BEGIN:STANDARD
TZOFFSETFROM:-0400
TZOFFSETTO:-0500
TZNAME:EST
DTSTART:20191103T060000
END:STANDARD
END:VTIMEZONE
BEGIN:VEVENT
DTSTART;TZID=America/New_York:20181109T080000
DTEND;TZID=America/New_York:20181109T170000
DTSTAMP:20260423T121322
CREATED:20181017T194308Z
LAST-MODIFIED:20181017T194308Z
UID:6203-1541750400-1541782800@northsideyachtclub.com
SUMMARY:The Amprays - Leopard Print Taser - Static Falls
DESCRIPTION:The Amprays *CD Release* + Leopard Print Taser (Somerville\, MA) + Static Falls\n9pm/$7 at the door\nwww.amprays.com\nleopardprinttaser.bandcamp.com\nstaticfalls.bandcamp.com
URL:https://northsideyachtclub.com/event/the-amprays-leopard-print-taser-static-falls/
LOCATION:Northside Yacht Club\, 4227 Spring Grove Avenue\, Cincinnati\, 45223\, United States
ATTACH;FMTTYPE=image/jpeg:https://northsideyachtclub.com/wp-content/uploads/2018/10/44166174_1918115301826265_505157290098163712_n.jpg
END:VEVENT
END:VCALENDAR