BEGIN:VCALENDAR
VERSION:2.0
PRODID:-//Northside Yacht Club - ECPv6.15.20//NONSGML v1.0//EN
CALSCALE:GREGORIAN
METHOD:PUBLISH
X-ORIGINAL-URL:https://northsideyachtclub.com
X-WR-CALDESC:Events for Northside Yacht Club
REFRESH-INTERVAL;VALUE=DURATION:PT1H
X-Robots-Tag:noindex
X-PUBLISHED-TTL:PT1H
BEGIN:VTIMEZONE
TZID:America/New_York
BEGIN:DAYLIGHT
TZOFFSETFROM:-0500
TZOFFSETTO:-0400
TZNAME:EDT
DTSTART:20170312T070000
END:DAYLIGHT
BEGIN:STANDARD
TZOFFSETFROM:-0400
TZOFFSETTO:-0500
TZNAME:EST
DTSTART:20171105T060000
END:STANDARD
BEGIN:DAYLIGHT
TZOFFSETFROM:-0500
TZOFFSETTO:-0400
TZNAME:EDT
DTSTART:20180311T070000
END:DAYLIGHT
BEGIN:STANDARD
TZOFFSETFROM:-0400
TZOFFSETTO:-0500
TZNAME:EST
DTSTART:20181104T060000
END:STANDARD
BEGIN:DAYLIGHT
TZOFFSETFROM:-0500
TZOFFSETTO:-0400
TZNAME:EDT
DTSTART:20190310T070000
END:DAYLIGHT
BEGIN:STANDARD
TZOFFSETFROM:-0400
TZOFFSETTO:-0500
TZNAME:EST
DTSTART:20191103T060000
END:STANDARD
END:VTIMEZONE
BEGIN:VEVENT
DTSTART;TZID=America/New_York:20181031T160000
DTEND;TZID=America/New_York:20181031T200000
DTSTAMP:20260423T121427
CREATED:20181031T191028Z
LAST-MODIFIED:20181031T191028Z
UID:6237-1541001600-1541016000@northsideyachtclub.com
SUMMARY:NSYC Ramen Mondays\, Greatest Hits Edition\,  A KIKI POP UP
DESCRIPTION:Shio Ramen: roasted pork in chicken broth\, Napa cabbage\, green onion\, tea marinaded egg. (It’s back baby) $11 \nKimchi Ramen: miso broth\, house made kimchi\, green onion\, tea marinated egg $11 \nCurry Donut $3
URL:https://northsideyachtclub.com/event/nsyc-ramen-mondays-greatest-hits-edition-a-kiki-pop-up/
LOCATION:Northside Yacht Club\, 4227 Spring Grove Avenue\, Cincinnati\, 45223\, United States
ATTACH;FMTTYPE=image/jpeg:https://northsideyachtclub.com/wp-content/uploads/2018/10/ramen-hideki.jpg
END:VEVENT
BEGIN:VEVENT
DTSTART;TZID=America/New_York:20181119T210000
DTEND;TZID=America/New_York:20181119T235500
DTSTAMP:20260423T121428
CREATED:20181017T194140Z
LAST-MODIFIED:20181017T194140Z
UID:6200-1542661200-1542671700@northsideyachtclub.com
SUMMARY:Unearth // FFAA // Agony Scene // Burn Victim // 11/19
DESCRIPTION:Unearth \nFit for an Autopsy \nThe Agony Scene \nBurn Victim \n11/19/18\nNSYC \n$18 at www.cincyticket.com or at Shake It Records\n$22 ATD \n7:30pm\nALL AGES
URL:https://northsideyachtclub.com/event/unearth-ffaa-agony-scene-burn-victim-11-19/
LOCATION:Northside Yacht Club\, 4227 Spring Grove Avenue\, Cincinnati\, 45223\, United States
ATTACH;FMTTYPE=image/jpeg:https://northsideyachtclub.com/wp-content/uploads/2018/10/44079028_2178843602437555_3385160491037884416_o.jpg
END:VEVENT
END:VCALENDAR