BEGIN:VCALENDAR
VERSION:2.0
PRODID:-//Northside Yacht Club - ECPv6.15.20//NONSGML v1.0//EN
CALSCALE:GREGORIAN
METHOD:PUBLISH
X-ORIGINAL-URL:https://northsideyachtclub.com
X-WR-CALDESC:Events for Northside Yacht Club
REFRESH-INTERVAL;VALUE=DURATION:PT1H
X-Robots-Tag:noindex
X-PUBLISHED-TTL:PT1H
BEGIN:VTIMEZONE
TZID:America/New_York
BEGIN:DAYLIGHT
TZOFFSETFROM:-0500
TZOFFSETTO:-0400
TZNAME:EDT
DTSTART:20170312T070000
END:DAYLIGHT
BEGIN:STANDARD
TZOFFSETFROM:-0400
TZOFFSETTO:-0500
TZNAME:EST
DTSTART:20171105T060000
END:STANDARD
BEGIN:DAYLIGHT
TZOFFSETFROM:-0500
TZOFFSETTO:-0400
TZNAME:EDT
DTSTART:20180311T070000
END:DAYLIGHT
BEGIN:STANDARD
TZOFFSETFROM:-0400
TZOFFSETTO:-0500
TZNAME:EST
DTSTART:20181104T060000
END:STANDARD
BEGIN:DAYLIGHT
TZOFFSETFROM:-0500
TZOFFSETTO:-0400
TZNAME:EDT
DTSTART:20190310T070000
END:DAYLIGHT
BEGIN:STANDARD
TZOFFSETFROM:-0400
TZOFFSETTO:-0500
TZNAME:EST
DTSTART:20191103T060000
END:STANDARD
END:VTIMEZONE
BEGIN:VEVENT
DTSTART;TZID=America/New_York:20181207T210000
DTEND;TZID=America/New_York:20181207T235500
DTSTAMP:20260423T104243
CREATED:20181011T143913Z
LAST-MODIFIED:20181011T143913Z
UID:6190-1544216400-1544226900@northsideyachtclub.com
SUMMARY:12.7 - The Last Troubadour\, North by North\, Room for Zero
DESCRIPTION:Garage power pop band North by North tours North America on their Never-Ending Tour. Stream their latest album on Spotify >> https://goo.gl/VrZXMN \nFriday\, December 7th at Northside Yacht Club\n9pm || 21+ || FREE\nFeaturing:\n||| The Last Troubadour\n|| North By North (Chicago\, IL)\n| ROOM FOR ZERO \n————————————————————————- \nNorth by North (Chicago\, IL)\nGarage pop FFO T. Rex\, Jack White\, Ty Segall\, & Thee Oh Sees\nhttps://open.spotify.com/artist/5IoXcA5DIDSG0QlNNoqQdZ\nhttps://northbynorth.bandcamp.com/\nhttps://bnds.us/v8gpzt
URL:https://northsideyachtclub.com/event/12-7-the-last-troubadour-north-by-north-room-for-zero/
LOCATION:Northside Yacht Club\, 4227 Spring Grove Avenue\, Cincinnati\, 45223\, United States
ATTACH;FMTTYPE=image/jpeg:https://northsideyachtclub.com/wp-content/uploads/2018/10/41642461_2369569563068176_6542777561808633856_o.jpg
END:VEVENT
END:VCALENDAR