BEGIN:VCALENDAR
VERSION:2.0
PRODID:-//Northside Yacht Club - ECPv6.15.20//NONSGML v1.0//EN
CALSCALE:GREGORIAN
METHOD:PUBLISH
X-ORIGINAL-URL:https://northsideyachtclub.com
X-WR-CALDESC:Events for Northside Yacht Club
REFRESH-INTERVAL;VALUE=DURATION:PT1H
X-Robots-Tag:noindex
X-PUBLISHED-TTL:PT1H
BEGIN:VTIMEZONE
TZID:America/New_York
BEGIN:DAYLIGHT
TZOFFSETFROM:-0500
TZOFFSETTO:-0400
TZNAME:EDT
DTSTART:20150308T070000
END:DAYLIGHT
BEGIN:STANDARD
TZOFFSETFROM:-0400
TZOFFSETTO:-0500
TZNAME:EST
DTSTART:20151101T060000
END:STANDARD
BEGIN:DAYLIGHT
TZOFFSETFROM:-0500
TZOFFSETTO:-0400
TZNAME:EDT
DTSTART:20160313T070000
END:DAYLIGHT
BEGIN:STANDARD
TZOFFSETFROM:-0400
TZOFFSETTO:-0500
TZNAME:EST
DTSTART:20161106T060000
END:STANDARD
BEGIN:DAYLIGHT
TZOFFSETFROM:-0500
TZOFFSETTO:-0400
TZNAME:EDT
DTSTART:20170312T070000
END:DAYLIGHT
BEGIN:STANDARD
TZOFFSETFROM:-0400
TZOFFSETTO:-0500
TZNAME:EST
DTSTART:20171105T060000
END:STANDARD
BEGIN:DAYLIGHT
TZOFFSETFROM:-0500
TZOFFSETTO:-0400
TZNAME:EDT
DTSTART:20180311T070000
END:DAYLIGHT
BEGIN:STANDARD
TZOFFSETFROM:-0400
TZOFFSETTO:-0500
TZNAME:EST
DTSTART:20181104T060000
END:STANDARD
BEGIN:DAYLIGHT
TZOFFSETFROM:-0500
TZOFFSETTO:-0400
TZNAME:EDT
DTSTART:20190310T070000
END:DAYLIGHT
BEGIN:STANDARD
TZOFFSETFROM:-0400
TZOFFSETTO:-0500
TZNAME:EST
DTSTART:20191103T060000
END:STANDARD
END:VTIMEZONE
BEGIN:VEVENT
DTSTART;TZID=America/New_York:20181214T173000
DTEND;TZID=America/New_York:20181216T235500
DTSTAMP:20260423T104321
CREATED:20181201T185213Z
LAST-MODIFIED:20181201T185213Z
UID:6260-1544808600-1545004500@northsideyachtclub.com
SUMMARY:Santamania 2018
DESCRIPTION:the Cincinnati Jingle Ball takes place yet again at the merry ol Northside Yacht Club with three days and five stages of music. feel free to gather up all your christmas spirit and have a jolly time with your best friends. \nFRIDAY DECEMBER 14TH\nMAIN STAGE\n6:00 – Mardou\n8:00 – Raging Nathans\n9:40 – Fourth Wife\n11:20 – Snafu\n12:20 – Tweens\n1:20 – The Dopamines \nFLAMINGO LOUNGE\n5:00 – Eunoia\n6:40 – Dirtbag\n8:20 – Sekrete\n10:00 – The Waterheads\n11:40 – Fuckin Basterd\n1:00 – Casteless \nGREEN ROOM\n6:20 – Houseghost\n7:00- Uji\n8:40 – Spear\n10:20 – Sex Scenes\n12:00 – Black Planet\n12:40 – Pout \nFREEZER STAGE\n5:30 – Kicked Out\n7:20 – Jeffrey Donger\n9:00 – Brain Dead Breath\n10:40 – Lazy Ass Destroyer \nKITCHEN STAGE\n7:40 – Evolve\n9:20 – God Dude\n11:00 – Off The Meat Rack \nSATURDAY DECEMBER 15th\nMAIN STAGE\n6:20 – Nothin’\n7:20 – Ghetto Blasters\n8:00 – Neil\n9:40 – The Chill Parents\n11:20 – Crime of Passing\n12:20 – Swim Team\n1:20 – Vacation \nFLAMINGO LOUNGE\n4:40 – Lashes\n5:30 – Worthmores\n6:40 – Head Collector\n8:20 – Kneeler\n10:00 – The Touch\n11:40 – Ew Gross\n1:00 – Slutbomb \nGREEN ROOM\n4:00 – Hammered With Jesus\n5:10 – N6664\n7:00 – Newport Secret Six\n8:40 – Evening Standards\n10:20 – Smut\n12:00 – Future Virgins\n12:40 – Burn Victim \nFREEZER STAGE\n4:20 –\n6:00 – Sleepcrawler\n9:00 – Skin Curtain\n10:40 – Flesh Mother \nKITCHEN STAGE\n7:40 – Terminal Island\n9:20 – Randall Garbage\n11:00 – Eugenius \nSUNDAY DECEMBER 16th \nMAIN STAGE\n2:00 – John Hays\n2:20 – Spike\n2:40 – Run Rabbit Run\n3:00 – John Hoffman\n3:30 – Terror At Midnight\n4:20 – Mike Montgomery\n5:00 – Bill James Gang\n5:50 – Howardian\n6:40 – Dinge\n7:50 – Push Off\n8:20 – Treason\n9:20 – Transgression\n10:00 – Left Behind \nFLAMINGO LOUNGE\n3:50 – Maggy\n5:20 – No Holiday\n6:10 – Slow Glows\n7:00 – Josh Goodloe\n8:40 – Split Tongue \nGREEN ROOM\n7:20 – Sorry Eric\n9:00 – Vampire Weekend at Bernied\n9:40 – \nBANDS: \nVACATION\nwww.vacation.bandcamp.com \nTHE DOPAMINES\nhttps://radgirlfriendrecords.bandcamp.com/album/tales-of-interest \nTWEENS\nwww.tweens.bandcamp.com \nFLESH MOTHER\nwww.fleshmother.bandcamp.com \nFUTURE VIRGINS (Chattanooga\, Tennessee)\nhttps://recessrecords.bandcamp.com/album/doomsday-raga \nSKIN CURTAIN\nhttps://myspace.com/skincurtain \nKNEELER (Athens\, Georgia) \nEVENING STANDARDS (Bloomington\, Indiana)\nhttps://letspretendrecords1.bandcamp.com/album/evening-standards-s-t \nSMUT\nwww.smutohio.bandcamp.com \nNEIL (Nashville\, Tennessee)\nwww.neiloneil.bandcamp.com \nSWIM TEAM\nhttps://letspretendrecords1.bandcamp.com/album/swim-team-s-t-lp \nHEAD COLLECTOR \nSNAFU (Detroit\, Michigan)\nwww.snafudetroit.bandcamp.com \nTHE TOUCH (Mansfield\, Ohio)\nwww.thetouchoh.bandcamp.com \nTHE CHILL PARENTS (Washington D.C.)\nwww.chillparents.bandcamp.com \nHOWARDIAN (Olympia\, Washington)\nwww.howardian.bandcamp.com \nNOTHIN’ (Colombus\, Ohio)\nwww.nothin.bandcamp.com \nTRANSGRESSION (Louisville\, Kentucky) \nPOUT \nTHE RAGING NATHANS (Dayton\, Ohio)\nwww.theragingnathans.bandcamp.com \nOFF THE MEAT RACK\nwww.offthemeatrack.bandcamp.com \nSEX SCENES (Milwaukee\, Wisconsin)\nwww.sexscenes.bandcamp.com \nBURN VICTIM\nwww.burnvictimohio.bandcamp.com \nTREASON\nwww.treasonhc.bandcamp.com \nDIRTBAG (Lexington\, Kentucky)\nwww.dirtbag1.bandcamp.com \nRANDALL GARBAGE (Colombus\, Ohio)\nwww.randallgarbage.bandcamp.com \nSEKRETE (Bloomington\, Indiana)\nwww.sekrete.bandcamp.com \nTERMINAL ISLAND (St. Louis\, Missouri) \nKICKED OUT\nwww.kickedout420.bandcamp.com \nLAZY ASS DESTROYER\nwww.lazyassdestroyer.bandcamp.com \nEUGENIUS\nwww.eugenius.bandcamp.com \nFUCKIN BASTERD \nHOUSEGHOST (Dayton\, Ohio)\nwww.houseghostdyt.bandcamp.com \nPUSH OFF\nwww.pushoffhardcore.bandcamp.com \nEW GROSS (Carbondale\, Illinois) \nCASTELESS\nwww.casteless.bandcamp.com \nSLUTBOMB\nwww.slutbomb.bandcamp.com \nFOURTH WIFE\nwww.fourthwife.bandcamp.com \nBLACK PLANET\nwww.blackplanett.bandcamp.com \nGOD DUDE\nhttps://soundcloud.com/goddude/sets/falls-count-anywhere \nRUN RABBIT RUN\nwww.runrabbitrun.bandcamp.com \nLASHES\nwww.lashesband666.bandcamp.com \nSPEAR\nwww.spear.bandcamp.com \nTERROR AT MIDNIGHT\nwww.terroratmidnight.bandcamp.com \nSLEEPCRAWLER \nDINGE \nMIKE MONTGOMERY \nEVOLVE\nwww.evolve23.bandcamp.com \nSPLIT TONGUE\nwww.splittonguehc.bandcamp.com \nCRIME OF PASSING\nwww.crimeofpassing.bandcamp.com \nJEFFREY DONGER \nMARDOU\nwww.mardouband.bandcamp.com \nTHE WATERHEADS \nSORRY ERIC \nSCRAM \nN6664 \nTIME OF CRISIS\nwww.timeofcrisis.bandcamp.com \nNEWPORT SECRET SIX \nWORTHMORES\nwww.worthmores.bandcamp.com \nSLOW GLOWS\nwww.slowglows.bandcamp.com \nBRAIN DEAD BREATH \nJOSH GOODLOE \nBILL JAMES GANG \nUJI \nMAGGY\nwww.maggy.bandcamp.com \nJOHN HAYS\nhttps://letspretendrecords1.bandcamp.com/album/jonh-hays-backsider-lp \nSPIKE \nNO HOLIDAY \nHAMMERED WITH JESUS\nwww.hammeredwithjesus.bandcamp.com
URL:https://northsideyachtclub.com/event/santamania-2018/
LOCATION:Northside Yacht Club\, 4227 Spring Grove Avenue\, Cincinnati\, 45223\, United States
ATTACH;FMTTYPE=image/jpeg:https://northsideyachtclub.com/wp-content/uploads/2018/12/41897893_10212166698948021_1643164632438800384_o.jpg
END:VEVENT
BEGIN:VEVENT
DTSTART;TZID=America/New_York:20160619T110000
DTEND;TZID=America/New_York:20160619T150000
DTSTAMP:20260423T104321
CREATED:20160618T232353Z
LAST-MODIFIED:20250202T145958Z
UID:1147-1466334000-1466348400@northsideyachtclub.com
SUMMARY:NSYC SUNDAY BRUNCH 11AM-3PM
DESCRIPTION:We’re a bar that wakes up once a week to serve you a boozy breakfast. Due to the tiny size of our kitchen\, we can only accommodate parties smaller than 6. Larger parties can be broken up into smaller groups. To keep service speedy and organized\, we kindly ask that checks are split no more than 4 ways.  \n\n\n\nSunday Only. 11-3. For carry out call 513 541 0528 \n\nBreakfast Poutine $16\nfresh cut fries\, NSYC goetta gravy\, Urban Stead local cheese curds\, scallions\, fried egg\n \nHawt Mess $16 (available Veggie)\nhouse-made pork sausage\, ohio hickory bacon\, eggs\, smashed red potatoes\, red and green bell peppers\, yellow onions\, aged white cheddar cheese scallions. \nWake n Bake Waffles $14\ntwo homemade American waffles\, Covington Ohio maple syrup. Ask your server about our toppings and/or our seasonal waffle special–right now it’s pumpkin spice. \nKiller Tofu $15 VE GF\nCinSoy local tofu\, red and green bell peppers yellow onions\, turmeric\, cumin and fresh herbs served with smashed red potatoes \nBreakfast Burrito $16 (available VE\, VG)\nhouse-made pork sausage\, ohio hickory bacon\, eggs\, smashed red potatoes\, red\, yellow and green bell peppers\, yellow onion\, and cotija cheese with roasted tomatillo salsa and sour cream\, (available vegetarian or vegan) \n\n\n\nJerri Queen’s Migas $16 (VG)\nscrambled eggs\, tortilla chips\, sautéed peppers & onions\, topped with cotija cheese and tomatillo salsa served with rice and black beans \n\n\n\n\n\n\n\n\n\n\n\n\n\n\n\n\n\n\nSIDES:\n\n\n\n\n\n\n\n\n\n\n\n\n\n\n\n\n\n\n\n\n\n\nSmashed Red Potatoes $16 GF VE\nseason’s with Jon’s “one love” spice blend \n\n\n\n\nFries (plate) $6 GF VE\na full plate of fresh cut fries \nLUNCH \n6 House Smoked Wings $10\njumbo wings with 5 spice house rub \, available in classic buffalo\, tangy bbq\, parmesan garlic\, cilantro honey lime\, sesame ginger\, hot habanero garlic\, or jamaican jerk + $1 bleu cheese or nascar sauce \n\n\n\n\n\n\n COCKTAILS:\n\n\n\n\n\nYacht Club Bloody $15\njon’s secret home made bloody mix\, vodka\, and citrus juices. garnished with celery\, house smoked boston butt pulled pork slider\, american hickory bacon\, and a house smoked amish jumbo wing. $12 as veggie. \n\nYACHT TODDY\nBOURBON\, HOUSE-MADE TODDY MIX (LOCAL HONEY\, LEMON ZEST\, GINGER\, VANILLA\, STAR ANISE\, AND ALL SPICE) AND FRESH LEMON JUICE\n \nCapri Sun of Anarchy $13:\n16 oz of vodka\, lavender lemonade in a bag. Proudly serving bagged cocktails since 2017\, accept no imitations \n \nNSYC Mimosa $11\nNatalie’s Orange juice and champagne\n \nEspresso Martini $13\nwill wake you up and get you inebriated \nGatorpagne $11\n“half champagne\, half Gatorade\, because hydration don’t need a reason to celebrate\, you guys. Is it in you?” — Karl Welzei \nSuper Paloma  $12\ntequila\, fresh Grapefruit juice\, lime juice\, house triple sec artisanal Brooklyn grapefruit soda \n\nBaja Blasted  $10\nwith vodka. It’s actually really good \n \n\n\n\n\nPineapple Creamy Marg on Crushed Ice $12\ntequila\, pineapple\, orange\, lime\, lemon on ice \n\n\n\nBreakfast poutine w/ Eckerlin Meats Homemade Goetta\n \n 
URL:https://northsideyachtclub.com/event/nsyc-sunday-brunch-11am-3pm/
LOCATION:Northside Yacht Club\, 4227 Spring Grove Avenue\, Cincinnati\, 45223\, United States
ATTACH;FMTTYPE=image/jpeg:https://northsideyachtclub.com/wp-content/uploads/2015/08/yacht-bloody-3.jpg
END:VEVENT
END:VCALENDAR