BEGIN:VCALENDAR
VERSION:2.0
PRODID:-//Northside Yacht Club - ECPv6.15.20//NONSGML v1.0//EN
CALSCALE:GREGORIAN
METHOD:PUBLISH
X-WR-CALNAME:Northside Yacht Club
X-ORIGINAL-URL:https://northsideyachtclub.com
X-WR-CALDESC:Events for Northside Yacht Club
REFRESH-INTERVAL;VALUE=DURATION:PT1H
X-Robots-Tag:noindex
X-PUBLISHED-TTL:PT1H
BEGIN:VTIMEZONE
TZID:America/New_York
BEGIN:DAYLIGHT
TZOFFSETFROM:-0500
TZOFFSETTO:-0400
TZNAME:EDT
DTSTART:20180311T070000
END:DAYLIGHT
BEGIN:STANDARD
TZOFFSETFROM:-0400
TZOFFSETTO:-0500
TZNAME:EST
DTSTART:20181104T060000
END:STANDARD
BEGIN:DAYLIGHT
TZOFFSETFROM:-0500
TZOFFSETTO:-0400
TZNAME:EDT
DTSTART:20190310T070000
END:DAYLIGHT
BEGIN:STANDARD
TZOFFSETFROM:-0400
TZOFFSETTO:-0500
TZNAME:EST
DTSTART:20191103T060000
END:STANDARD
BEGIN:DAYLIGHT
TZOFFSETFROM:-0500
TZOFFSETTO:-0400
TZNAME:EDT
DTSTART:20200308T070000
END:DAYLIGHT
BEGIN:STANDARD
TZOFFSETFROM:-0400
TZOFFSETTO:-0500
TZNAME:EST
DTSTART:20201101T060000
END:STANDARD
END:VTIMEZONE
BEGIN:VEVENT
DTSTART;TZID=America/New_York:20190211T210000
DTEND;TZID=America/New_York:20190211T235500
DTSTAMP:20260423T071833
CREATED:20190127T184357Z
LAST-MODIFIED:20190127T184357Z
UID:6307-1549918800-1549929300@northsideyachtclub.com
SUMMARY:Lung Ripper and Schotzi
DESCRIPTION:Lung Ripper and Schotzi are on tour together and will be coming through town. Come out\, show your support. \nBANDS:\nLung Ripper (PA Beatdown)\nSchotzi (PA Grind)\nColdcase (Cincinnati Slamming Beatdown)\nKeel Haul (Southern Indiana Murder Muzik) \nUpstairs at Northside Yacht Club \nThere’s a show going on downstairs as well\, make sure to support that and all the bands playing
URL:https://northsideyachtclub.com/event/lung-ripper-and-schotzi/
LOCATION:Northside Yacht Club\, 4227 Spring Grove Avenue\, Cincinnati\, 45223\, United States
ATTACH;FMTTYPE=image/jpeg:https://northsideyachtclub.com/wp-content/uploads/2019/01/48359148_1021776328008811_6020419052244041728_o.jpg
END:VEVENT
END:VCALENDAR