BEGIN:VCALENDAR
VERSION:2.0
PRODID:-//Northside Yacht Club - ECPv6.15.20//NONSGML v1.0//EN
CALSCALE:GREGORIAN
METHOD:PUBLISH
X-WR-CALNAME:Northside Yacht Club
X-ORIGINAL-URL:https://northsideyachtclub.com
X-WR-CALDESC:Events for Northside Yacht Club
REFRESH-INTERVAL;VALUE=DURATION:PT1H
X-Robots-Tag:noindex
X-PUBLISHED-TTL:PT1H
BEGIN:VTIMEZONE
TZID:America/New_York
BEGIN:DAYLIGHT
TZOFFSETFROM:-0500
TZOFFSETTO:-0400
TZNAME:EDT
DTSTART:20220313T070000
END:DAYLIGHT
BEGIN:STANDARD
TZOFFSETFROM:-0400
TZOFFSETTO:-0500
TZNAME:EST
DTSTART:20221106T060000
END:STANDARD
BEGIN:DAYLIGHT
TZOFFSETFROM:-0500
TZOFFSETTO:-0400
TZNAME:EDT
DTSTART:20230312T070000
END:DAYLIGHT
BEGIN:STANDARD
TZOFFSETFROM:-0400
TZOFFSETTO:-0500
TZNAME:EST
DTSTART:20231105T060000
END:STANDARD
BEGIN:DAYLIGHT
TZOFFSETFROM:-0500
TZOFFSETTO:-0400
TZNAME:EDT
DTSTART:20240310T070000
END:DAYLIGHT
BEGIN:STANDARD
TZOFFSETFROM:-0400
TZOFFSETTO:-0500
TZNAME:EST
DTSTART:20241103T060000
END:STANDARD
BEGIN:DAYLIGHT
TZOFFSETFROM:-0500
TZOFFSETTO:-0400
TZNAME:EDT
DTSTART:20250309T070000
END:DAYLIGHT
BEGIN:STANDARD
TZOFFSETFROM:-0400
TZOFFSETTO:-0500
TZNAME:EST
DTSTART:20251102T060000
END:STANDARD
BEGIN:DAYLIGHT
TZOFFSETFROM:-0500
TZOFFSETTO:-0400
TZNAME:EDT
DTSTART:20260308T070000
END:DAYLIGHT
BEGIN:STANDARD
TZOFFSETFROM:-0400
TZOFFSETTO:-0500
TZNAME:EST
DTSTART:20261101T060000
END:STANDARD
END:VTIMEZONE
BEGIN:VEVENT
DTSTART;TZID=America/New_York:20250704T130000
DTEND;TZID=America/New_York:20250705T020000
DTSTAMP:20260424T182950
CREATED:20250623T210954Z
LAST-MODIFIED:20250629T155109Z
UID:10302-1751634000-1751680800@northsideyachtclub.com
SUMMARY:NSYC 4th of July All Day Karaoke Party
DESCRIPTION:We’re opening SNKP Karaoke\, the Kitchen and Bar at 1 pm and rocking all day long after the parade. Lots of cool sausage specials.   Sing your heart out and party with us all day long\, ! It will also be the official christening/launch of the Bubble Boat Pleasure Cruiser. Will the Burger Cannon come out again? Who can say!?
URL:https://northsideyachtclub.com/event/nysyc-4th-of-july-all-day-karaoke-party/
LOCATION:Northside Yacht Club\, 4227 Spring Grove Avenue\, Cincinnati\, 45223\, United States
ATTACH;FMTTYPE=image/jpeg:https://northsideyachtclub.com/wp-content/uploads/2023/06/66079952_2163417260422982_7776810498758017024_n.jpg
END:VEVENT
BEGIN:VEVENT
DTSTART;TZID=America/New_York:20230915T210000
DTEND;TZID=America/New_York:20230916T020000
DTSTAMP:20260424T182950
CREATED:20250115T081340Z
LAST-MODIFIED:20250115T225436Z
UID:9722-1694811600-1694829600@northsideyachtclub.com
SUMMARY:CLAW NIGHT!
DESCRIPTION:CLAW NIGHT FRIDAYS at 9PM \n     Get a free token to claw  with every drink \n     Trade in token to claw on the hour\n     Win a   cans stuffed with prizes inside \nPrizes:\n        NSYC Gift Certificates\n        Hats \n        T shirt\n        Sticker \n        Surprise Prize
URL:https://northsideyachtclub.com/event/yacht-after-dark-2/
LOCATION:Northside Yacht Club\, 4227 Spring Grove Avenue\, Cincinnati\, 45223\, United States
ATTACH;FMTTYPE=image/jpeg:https://northsideyachtclub.com/wp-content/uploads/2023/09/473135717_3053353888146332_8038127250819193650_n.jpg
END:VEVENT
BEGIN:VEVENT
DTSTART;TZID=America/New_York:20230916T220000
DTEND;TZID=America/New_York:20230917T020000
DTSTAMP:20260424T182951
CREATED:20230915T014105Z
LAST-MODIFIED:20230915T014532Z
UID:9725-1694901600-1694916000@northsideyachtclub.com
SUMMARY:Night Watch
DESCRIPTION:At 10 pm Mike turns the lights down and the music up for Night Watch. Ride the new waves as we drag anchor with 80s jams and deep cuts.  Enjoy night moves and a full cocktail list or grab a beer a shot. The guests can sleep easy\, but you’re on Night Watch tonight.
URL:https://northsideyachtclub.com/event/night-watch/
ATTACH;FMTTYPE=image/jpeg:https://northsideyachtclub.com/wp-content/uploads/2023/09/yacht_cropped_yacht_after_NIGHTWATCHi-1-scaled.jpg
END:VEVENT
END:VCALENDAR