BEGIN:VCALENDAR
VERSION:2.0
PRODID:-//Northside Yacht Club - ECPv6.15.20//NONSGML v1.0//EN
CALSCALE:GREGORIAN
METHOD:PUBLISH
X-WR-CALNAME:Northside Yacht Club
X-ORIGINAL-URL:https://northsideyachtclub.com
X-WR-CALDESC:Events for Northside Yacht Club
REFRESH-INTERVAL;VALUE=DURATION:PT1H
X-Robots-Tag:noindex
X-PUBLISHED-TTL:PT1H
BEGIN:VTIMEZONE
TZID:America/New_York
BEGIN:DAYLIGHT
TZOFFSETFROM:-0500
TZOFFSETTO:-0400
TZNAME:EDT
DTSTART:20150308T070000
END:DAYLIGHT
BEGIN:STANDARD
TZOFFSETFROM:-0400
TZOFFSETTO:-0500
TZNAME:EST
DTSTART:20151101T060000
END:STANDARD
BEGIN:DAYLIGHT
TZOFFSETFROM:-0500
TZOFFSETTO:-0400
TZNAME:EDT
DTSTART:20160313T070000
END:DAYLIGHT
BEGIN:STANDARD
TZOFFSETFROM:-0400
TZOFFSETTO:-0500
TZNAME:EST
DTSTART:20161106T060000
END:STANDARD
BEGIN:DAYLIGHT
TZOFFSETFROM:-0500
TZOFFSETTO:-0400
TZNAME:EDT
DTSTART:20170312T070000
END:DAYLIGHT
BEGIN:STANDARD
TZOFFSETFROM:-0400
TZOFFSETTO:-0500
TZNAME:EST
DTSTART:20171105T060000
END:STANDARD
BEGIN:DAYLIGHT
TZOFFSETFROM:-0500
TZOFFSETTO:-0400
TZNAME:EDT
DTSTART:20180311T070000
END:DAYLIGHT
BEGIN:STANDARD
TZOFFSETFROM:-0400
TZOFFSETTO:-0500
TZNAME:EST
DTSTART:20181104T060000
END:STANDARD
BEGIN:DAYLIGHT
TZOFFSETFROM:-0500
TZOFFSETTO:-0400
TZNAME:EDT
DTSTART:20190310T070000
END:DAYLIGHT
BEGIN:STANDARD
TZOFFSETFROM:-0400
TZOFFSETTO:-0500
TZNAME:EST
DTSTART:20191103T060000
END:STANDARD
BEGIN:DAYLIGHT
TZOFFSETFROM:-0500
TZOFFSETTO:-0400
TZNAME:EDT
DTSTART:20200308T070000
END:DAYLIGHT
BEGIN:STANDARD
TZOFFSETFROM:-0400
TZOFFSETTO:-0500
TZNAME:EST
DTSTART:20201101T060000
END:STANDARD
BEGIN:DAYLIGHT
TZOFFSETFROM:-0500
TZOFFSETTO:-0400
TZNAME:EDT
DTSTART:20210314T070000
END:DAYLIGHT
BEGIN:STANDARD
TZOFFSETFROM:-0400
TZOFFSETTO:-0500
TZNAME:EST
DTSTART:20211107T060000
END:STANDARD
BEGIN:DAYLIGHT
TZOFFSETFROM:-0500
TZOFFSETTO:-0400
TZNAME:EDT
DTSTART:20220313T070000
END:DAYLIGHT
BEGIN:STANDARD
TZOFFSETFROM:-0400
TZOFFSETTO:-0500
TZNAME:EST
DTSTART:20221106T060000
END:STANDARD
BEGIN:DAYLIGHT
TZOFFSETFROM:-0500
TZOFFSETTO:-0400
TZNAME:EDT
DTSTART:20230312T070000
END:DAYLIGHT
BEGIN:STANDARD
TZOFFSETFROM:-0400
TZOFFSETTO:-0500
TZNAME:EST
DTSTART:20231105T060000
END:STANDARD
BEGIN:DAYLIGHT
TZOFFSETFROM:-0500
TZOFFSETTO:-0400
TZNAME:EDT
DTSTART:20240310T070000
END:DAYLIGHT
BEGIN:STANDARD
TZOFFSETFROM:-0400
TZOFFSETTO:-0500
TZNAME:EST
DTSTART:20241103T060000
END:STANDARD
BEGIN:DAYLIGHT
TZOFFSETFROM:-0500
TZOFFSETTO:-0400
TZNAME:EDT
DTSTART:20250309T070000
END:DAYLIGHT
BEGIN:STANDARD
TZOFFSETFROM:-0400
TZOFFSETTO:-0500
TZNAME:EST
DTSTART:20251102T060000
END:STANDARD
BEGIN:DAYLIGHT
TZOFFSETFROM:-0500
TZOFFSETTO:-0400
TZNAME:EDT
DTSTART:20260308T070000
END:DAYLIGHT
BEGIN:STANDARD
TZOFFSETFROM:-0400
TZOFFSETTO:-0500
TZNAME:EST
DTSTART:20261101T060000
END:STANDARD
END:VTIMEZONE
BEGIN:VEVENT
DTSTART;TZID=America/New_York:20250805T080000
DTEND;TZID=America/New_York:20250805T170000
DTSTAMP:20260424T170426
CREATED:20250805T214210Z
LAST-MODIFIED:20250805T214210Z
UID:10405-1754380800-1754413200@northsideyachtclub.com
SUMMARY: NYSC 10th Anniversary Party & Cincy CARE Fundraiser 
DESCRIPTION: NYSC 10th Anniversary Party & Cincy CARE Fundraiser \nCome for the beer. Stay for the slap. Live for the Deep Fried Coney \nJoin us as we celebrate TEN YEARS of New Year’s Same Chaos at our most legendary annual bash yet—now with more hops\, more slaps\, and more dogs (the adoptable kind\, not the chili cheese kind—but also those). \nAs always\, we’re partying for a purpose\, raising funds for Cincinnati Animal CARE\, the Northside heroes who rescue everything. \nHere’s what’s going down:\n The sacred tapping of Rhinegeist’s “DINGHY”\, a hazy IPA with 10 hops (one for each year we’ve survived adulthood)\n A Celebrity Dunk Tank featuring local legends you’ve definitely yelled at during trivia or seen on a mural\n The infamous SHOT & SLAP Booth™ – yes\, it’s back. Yes\, we have N/A shots. Yes\, you can slap your best friend (with consent)\n The mythic Deep Fried Chili Cheese Coney – available for one glorious\, medically questionable day only\n The dangerously delicious New Boot Goof Juice vodka slushie\, courtesy of Mollie\n Bangers all night from DJ Colonel Midnight & DJ Justin Schafer of Approximate Knowledge Institute Trivia (they know things… approximately) \nWe’ve raised over $23K for good causes in the past\, so help us keep the karma train rolling—and maybe adopt a furry friend while you’re at it. Or just get drunk and yell “WHO’S NEXT?” at the dunk tank. Your choice. \n Proceeds go to Cincinnati Animal CARE\nNorthside Yacht Club\n Saturday\, August 16 | 1PM – 10PM
URL:https://northsideyachtclub.com/event/nysc-10th-anniversary-party-cincy-care-fundraiser/
ATTACH;FMTTYPE=image/jpeg:https://northsideyachtclub.com/wp-content/uploads/2024/07/chili-cheese-coney-text-01-copy.jpg
END:VEVENT
BEGIN:VEVENT
DTSTART;TZID=America/New_York:20160621T190000
DTEND;TZID=America/New_York:20160621T220000
DTSTAMP:20260424T170426
CREATED:20160618T231808Z
LAST-MODIFIED:20160618T231808Z
UID:1105-1466535600-1466546400@northsideyachtclub.com
SUMMARY:TRIVIA TUESDAY W/ JUSTIN SCHAFER
DESCRIPTION:Drink more\, think more and compete for fabulous prizes while proving your team has the biggest brains in the room! Join us for trivia EVERY Tuesday at 7 and 9 PM featuring your host\, local idiot savant\, Justin Schafer. Games consist of 2 halves of 8 questions each with some NAME THAT TUNE  in between. Prizes for first second and third places.
URL:https://northsideyachtclub.com/event/trivia-tuesday-w-justin-schafer-34/
LOCATION:Northside Yacht Club\, 4227 Spring Grove Avenue\, Cincinnati\, 45223\, United States
ATTACH;FMTTYPE=image/jpeg:https://northsideyachtclub.com/wp-content/uploads/2015/12/cropped-cropped-cropped-12389026_10101089323045190_777089096_o-1.jpg
END:VEVENT
END:VCALENDAR