BEGIN:VCALENDAR
VERSION:2.0
PRODID:-//Northside Yacht Club - ECPv6.15.20//NONSGML v1.0//EN
CALSCALE:GREGORIAN
METHOD:PUBLISH
X-WR-CALNAME:Northside Yacht Club
X-ORIGINAL-URL:https://northsideyachtclub.com
X-WR-CALDESC:Events for Northside Yacht Club
REFRESH-INTERVAL;VALUE=DURATION:PT1H
X-Robots-Tag:noindex
X-PUBLISHED-TTL:PT1H
BEGIN:VTIMEZONE
TZID:America/New_York
BEGIN:DAYLIGHT
TZOFFSETFROM:-0500
TZOFFSETTO:-0400
TZNAME:EDT
DTSTART:20220313T070000
END:DAYLIGHT
BEGIN:STANDARD
TZOFFSETFROM:-0400
TZOFFSETTO:-0500
TZNAME:EST
DTSTART:20221106T060000
END:STANDARD
BEGIN:DAYLIGHT
TZOFFSETFROM:-0500
TZOFFSETTO:-0400
TZNAME:EDT
DTSTART:20230312T070000
END:DAYLIGHT
BEGIN:STANDARD
TZOFFSETFROM:-0400
TZOFFSETTO:-0500
TZNAME:EST
DTSTART:20231105T060000
END:STANDARD
BEGIN:DAYLIGHT
TZOFFSETFROM:-0500
TZOFFSETTO:-0400
TZNAME:EDT
DTSTART:20240310T070000
END:DAYLIGHT
BEGIN:STANDARD
TZOFFSETFROM:-0400
TZOFFSETTO:-0500
TZNAME:EST
DTSTART:20241103T060000
END:STANDARD
BEGIN:DAYLIGHT
TZOFFSETFROM:-0500
TZOFFSETTO:-0400
TZNAME:EDT
DTSTART:20250309T070000
END:DAYLIGHT
BEGIN:STANDARD
TZOFFSETFROM:-0400
TZOFFSETTO:-0500
TZNAME:EST
DTSTART:20251102T060000
END:STANDARD
BEGIN:DAYLIGHT
TZOFFSETFROM:-0500
TZOFFSETTO:-0400
TZNAME:EDT
DTSTART:20260308T070000
END:DAYLIGHT
BEGIN:STANDARD
TZOFFSETFROM:-0400
TZOFFSETTO:-0500
TZNAME:EST
DTSTART:20261101T060000
END:STANDARD
END:VTIMEZONE
BEGIN:VEVENT
DTSTART;TZID=America/New_York:20250829T210000
DTEND;TZID=America/New_York:20250829T233000
DTSTAMP:20260424T170429
CREATED:20250825T175918Z
LAST-MODIFIED:20250825T175918Z
UID:10425-1756501200-1756510200@northsideyachtclub.com
SUMMARY:DDD Premiere and Watch Party !
DESCRIPTION: FLAVORTOWN ALERT  \nThis Friday\, Aug 29th at 9pm\, we hit the big screen on @FoodNetwork’s #DDD  and you KNOW the only way to celebrate is with a watch party! \n @Rhinegeist Dinghy on draft (10 year anniversary edition)\n Poutine is on deck like it’s Canada Day\n PLUS we’re making a batch of peanut butter spiked with @guyfieri’s Santo Tequila because if you’re gonna spread it\, spread it loud \nCome watch us yell at the TV as we see ourselves in HD for the first time and get super embarrassed. \n Friday Aug 29 • 9 PM • Don’t miss it\, or Guy might revoke our Flavor License™.
URL:https://northsideyachtclub.com/event/ddd-premiere-and-watch-party/
LOCATION:Northside Yacht Club\, 4227 Spring Grove Avenue\, Cincinnati\, 45223\, United States
ATTACH;FMTTYPE=image/jpeg:https://northsideyachtclub.com/wp-content/uploads/2025/08/download.jpg
END:VEVENT
BEGIN:VEVENT
DTSTART;TZID=America/New_York:20230915T210000
DTEND;TZID=America/New_York:20230916T020000
DTSTAMP:20260424T170429
CREATED:20250115T081340Z
LAST-MODIFIED:20250115T225436Z
UID:9722-1694811600-1694829600@northsideyachtclub.com
SUMMARY:CLAW NIGHT!
DESCRIPTION:CLAW NIGHT FRIDAYS at 9PM \n     Get a free token to claw  with every drink \n     Trade in token to claw on the hour\n     Win a   cans stuffed with prizes inside \nPrizes:\n        NSYC Gift Certificates\n        Hats \n        T shirt\n        Sticker \n        Surprise Prize
URL:https://northsideyachtclub.com/event/yacht-after-dark-2/
LOCATION:Northside Yacht Club\, 4227 Spring Grove Avenue\, Cincinnati\, 45223\, United States
ATTACH;FMTTYPE=image/jpeg:https://northsideyachtclub.com/wp-content/uploads/2023/09/473135717_3053353888146332_8038127250819193650_n.jpg
END:VEVENT
END:VCALENDAR